Package: nipalsMCIA Version: 1.6.0 Command: /home/biocbuild/bbs-3.21-bioc/R/bin/R CMD build --keep-empty-dirs --no-resave-data nipalsMCIA StartedAt: 2025-10-15 18:52:03 -0400 (Wed, 15 Oct 2025) EndedAt: 2025-10-15 18:55:39 -0400 (Wed, 15 Oct 2025) EllapsedTime: 216.3 seconds RetCode: 0 Status: OK PackageFile: nipalsMCIA_1.6.0.tar.gz PackageFileSize: 3.147 MiB