Package: nipalsMCIA Version: 1.6.0 Command: /Library/Frameworks/R.framework/Resources/bin/R CMD INSTALL nipalsMCIA StartedAt: 2025-10-13 15:35:46 -0400 (Mon, 13 Oct 2025) EndedAt: 2025-10-13 15:36:44 -0400 (Mon, 13 Oct 2025) EllapsedTime: 58.3 seconds RetCode: 0 Status: OK