Package: nipalsMCIA Version: 1.6.0 Command: rm -rf nipalsMCIA.buildbin-libdir && mkdir nipalsMCIA.buildbin-libdir && /Users/biocbuild/BBS/utils/build-universal.sh nipalsMCIA_1.6.0.tar.gz /Library/Frameworks/R.framework/Resources/bin/R nipalsMCIA.buildbin-libdir StartedAt: 2025-10-15 19:37:13 -0400 (Wed, 15 Oct 2025) EndedAt: 2025-10-15 19:37:50 -0400 (Wed, 15 Oct 2025) EllapsedTime: 37.0 seconds RetCode: 0 Status: OK PackageFile: nipalsMCIA_1.6.0.tgz PackageFileSize: 4.009 MiB