Package: netresponse Version: 1.68.0 Command: /home/biocbuild/bbs-3.21-bioc/R/bin/R CMD INSTALL netresponse StartedAt: 2025-10-15 15:14:19 -0400 (Wed, 15 Oct 2025) EndedAt: 2025-10-15 15:14:30 -0400 (Wed, 15 Oct 2025) EllapsedTime: 11.1 seconds RetCode: 0 Status: OK