Package: netresponse Version: 1.68.0 Command: /home/biocbuild/bbs-3.21-bioc/R/bin/R CMD build --keep-empty-dirs --no-resave-data netresponse StartedAt: 2025-10-15 18:51:31 -0400 (Wed, 15 Oct 2025) EndedAt: 2025-10-15 18:51:45 -0400 (Wed, 15 Oct 2025) EllapsedTime: 14.0 seconds RetCode: 0 Status: OK PackageFile: netresponse_1.68.0.tar.gz PackageFileSize: 975.5 KiB