Package: netresponse Version: 1.68.0 Command: /home/biocbuild/R/R/bin/R CMD build --keep-empty-dirs --no-resave-data netresponse StartedAt: 2025-10-14 03:03:52 -0000 (Tue, 14 Oct 2025) EndedAt: 2025-10-14 03:04:11 -0000 (Tue, 14 Oct 2025) EllapsedTime: 19.0 seconds RetCode: 0 Status: OK PackageFile: netresponse_1.68.0.tar.gz PackageFileSize: 999.4 KiB