Package: netresponse Version: 1.68.0 Command: /Library/Frameworks/R.framework/Resources/bin/R CMD INSTALL netresponse StartedAt: 2025-10-13 15:53:36 -0400 (Mon, 13 Oct 2025) EndedAt: 2025-10-13 15:53:50 -0400 (Mon, 13 Oct 2025) EllapsedTime: 13.5 seconds RetCode: 0 Status: OK