Package: netresponse Version: 1.68.0 Command: /Library/Frameworks/R.framework/Resources/bin/R CMD build --keep-empty-dirs --no-resave-data netresponse StartedAt: 2025-10-14 05:40:08 -0400 (Tue, 14 Oct 2025) EndedAt: 2025-10-14 05:40:36 -0400 (Tue, 14 Oct 2025) EllapsedTime: 27.3 seconds RetCode: 0 Status: OK PackageFile: netresponse_1.68.0.tar.gz PackageFileSize: 975.6 KiB