Package: netresponse Version: 1.68.0 Command: rm -rf netresponse.buildbin-libdir && mkdir netresponse.buildbin-libdir && /Users/biocbuild/BBS/utils/build-universal.sh netresponse_1.68.0.tar.gz /Library/Frameworks/R.framework/Resources/bin/R netresponse.buildbin-libdir StartedAt: 2025-10-15 19:36:36 -0400 (Wed, 15 Oct 2025) EndedAt: 2025-10-15 19:36:53 -0400 (Wed, 15 Oct 2025) EllapsedTime: 16.7 seconds RetCode: 0 Status: OK PackageFile: netresponse_1.68.0.tgz PackageFileSize: 1.29 MiB