Package: netprioR Version: 1.34.0 Command: /home/biocbuild/bbs-3.21-bioc/R/bin/R CMD build --keep-empty-dirs --no-resave-data netprioR StartedAt: 2025-10-15 18:51:24 -0400 (Wed, 15 Oct 2025) EndedAt: 2025-10-15 18:52:03 -0400 (Wed, 15 Oct 2025) EllapsedTime: 39.1 seconds RetCode: 0 Status: OK PackageFile: netprioR_1.34.0.tar.gz PackageFileSize: 651.6 KiB