Package: netprioR Version: 1.34.0 Command: /Library/Frameworks/R.framework/Resources/bin/R CMD build --keep-empty-dirs --no-resave-data netprioR StartedAt: 2025-10-14 05:39:42 -0400 (Tue, 14 Oct 2025) EndedAt: 2025-10-14 05:40:40 -0400 (Tue, 14 Oct 2025) EllapsedTime: 57.9 seconds RetCode: 0 Status: OK PackageFile: netprioR_1.34.0.tar.gz PackageFileSize: 547.1 KiB