Package: nethet Version: 1.40.0 Command: /home/biocbuild/R/R/bin/R CMD INSTALL nethet StartedAt: 2025-10-13 20:26:11 -0000 (Mon, 13 Oct 2025) EndedAt: 2025-10-13 20:26:32 -0000 (Mon, 13 Oct 2025) EllapsedTime: 20.7 seconds RetCode: 0 Status: OK