Package: nethet Version: 1.40.0 Command: /home/biocbuild/R/R/bin/R CMD build --keep-empty-dirs --no-resave-data nethet StartedAt: 2025-10-14 03:03:22 -0000 (Tue, 14 Oct 2025) EndedAt: 2025-10-14 03:08:56 -0000 (Tue, 14 Oct 2025) EllapsedTime: 333.5 seconds RetCode: 0 Status: OK PackageFile: nethet_1.40.0.tar.gz PackageFileSize: 690.1 KiB