Package: nethet Version: 1.40.0 Command: /Library/Frameworks/R.framework/Resources/bin/R CMD build --keep-empty-dirs --no-resave-data nethet StartedAt: 2025-10-14 05:38:56 -0400 (Tue, 14 Oct 2025) EndedAt: 2025-10-14 05:44:36 -0400 (Tue, 14 Oct 2025) EllapsedTime: 340.1 seconds RetCode: 0 Status: OK PackageFile: nethet_1.40.0.tar.gz PackageFileSize: 704.8 KiB