Package: netboost Version: 2.16.0 Command: /Library/Frameworks/R.framework/Resources/bin/R CMD INSTALL netboost StartedAt: 2025-10-13 16:28:11 -0400 (Mon, 13 Oct 2025) EndedAt: 2025-10-13 16:30:08 -0400 (Mon, 13 Oct 2025) EllapsedTime: 117.6 seconds RetCode: 0 Status: OK