Package: netZooR Version: 1.12.0 Command: /home/biocbuild/bbs-3.21-bioc/R/bin/R CMD build --keep-empty-dirs --no-resave-data netZooR StartedAt: 2025-10-15 18:51:41 -0400 (Wed, 15 Oct 2025) EndedAt: 2025-10-15 18:51:42 -0400 (Wed, 15 Oct 2025) EllapsedTime: 1.0 seconds RetCode: 1 Status: ERROR PackageFile: None PackageFileSize: NA