Package: netZooR Version: 1.12.0 Command: /home/biocbuild/R/R/bin/R CMD build --keep-empty-dirs --no-resave-data netZooR StartedAt: 2025-10-14 03:04:11 -0000 (Tue, 14 Oct 2025) EndedAt: 2025-10-14 03:04:13 -0000 (Tue, 14 Oct 2025) EllapsedTime: 2.0 seconds RetCode: 1 Status: ERROR PackageFile: None PackageFileSize: NA