Package: netZooR Version: 1.12.0 Command: /Library/Frameworks/R.framework/Resources/bin/R CMD build --keep-empty-dirs --no-resave-data netZooR StartedAt: 2025-10-14 05:41:44 -0400 (Tue, 14 Oct 2025) EndedAt: 2025-10-14 05:41:47 -0400 (Tue, 14 Oct 2025) EllapsedTime: 2.3 seconds RetCode: 1 Status: ERROR PackageFile: None PackageFileSize: NA