Package: netSmooth Version: 1.28.0 Command: /home/biocbuild/bbs-3.21-bioc/R/bin/R CMD INSTALL netSmooth StartedAt: 2025-10-15 15:56:41 -0400 (Wed, 15 Oct 2025) EndedAt: 2025-10-15 15:57:29 -0400 (Wed, 15 Oct 2025) EllapsedTime: 47.7 seconds RetCode: 0 Status: OK