Package: netSmooth Version: 1.28.0 Command: /Library/Frameworks/R.framework/Resources/bin/R CMD INSTALL netSmooth StartedAt: 2025-10-13 16:45:30 -0400 (Mon, 13 Oct 2025) EndedAt: 2025-10-13 16:47:19 -0400 (Mon, 13 Oct 2025) EllapsedTime: 109.2 seconds RetCode: 0 Status: OK