Package: netDx Version: 1.20.0 Command: /home/biocbuild/bbs-3.21-bioc/R/bin/R CMD INSTALL netDx StartedAt: 2025-10-15 15:59:52 -0400 (Wed, 15 Oct 2025) EndedAt: 2025-10-15 16:00:23 -0400 (Wed, 15 Oct 2025) EllapsedTime: 31.5 seconds RetCode: 0 Status: OK