Package: netDx Version: 1.20.0 Command: /home/biocbuild/bbs-3.21-bioc/R/bin/R CMD build --keep-empty-dirs --no-resave-data netDx StartedAt: 2025-10-15 18:50:59 -0400 (Wed, 15 Oct 2025) EndedAt: 2025-10-15 18:54:30 -0400 (Wed, 15 Oct 2025) EllapsedTime: 211.3 seconds RetCode: 1 Status: ERROR PackageFile: None PackageFileSize: NA