Package: netDx Version: 1.20.0 Command: /Library/Frameworks/R.framework/Resources/bin/R CMD build --keep-empty-dirs --no-resave-data netDx StartedAt: 2025-10-13 21:05:29 -0400 (Mon, 13 Oct 2025) EndedAt: 2025-10-13 21:12:09 -0400 (Mon, 13 Oct 2025) EllapsedTime: 400.2 seconds RetCode: 1 Status: ERROR PackageFile: None PackageFileSize: NA