Package: netDx Version: 1.20.0 Command: /home/biocbuild/R/R/bin/R CMD INSTALL netDx StartedAt: 2025-10-13 21:19:35 -0000 (Mon, 13 Oct 2025) EndedAt: 2025-10-13 21:20:22 -0000 (Mon, 13 Oct 2025) EllapsedTime: 46.4 seconds RetCode: 0 Status: OK