Package: netDx Version: 1.20.0 Command: /Library/Frameworks/R.framework/Resources/bin/R CMD build --keep-empty-dirs --no-resave-data netDx StartedAt: 2025-10-14 05:38:26 -0400 (Tue, 14 Oct 2025) EndedAt: 2025-10-14 05:42:27 -0400 (Tue, 14 Oct 2025) EllapsedTime: 241.5 seconds RetCode: 1 Status: ERROR PackageFile: None PackageFileSize: NA