Package: ndexr Version: 1.30.0 Command: /home/biocbuild/bbs-3.21-bioc/R/bin/R CMD build --keep-empty-dirs --no-resave-data ndexr StartedAt: 2025-10-15 18:49:36 -0400 (Wed, 15 Oct 2025) EndedAt: 2025-10-15 18:49:46 -0400 (Wed, 15 Oct 2025) EllapsedTime: 10.0 seconds RetCode: 0 Status: OK PackageFile: ndexr_1.30.0.tar.gz PackageFileSize: 946.5 KiB