Package: ndexr Version: 1.30.0 Command: /Library/Frameworks/R.framework/Resources/bin/R CMD build --keep-empty-dirs --no-resave-data ndexr StartedAt: 2025-10-14 05:34:29 -0400 (Tue, 14 Oct 2025) EndedAt: 2025-10-14 05:34:45 -0400 (Tue, 14 Oct 2025) EllapsedTime: 15.9 seconds RetCode: 0 Status: OK PackageFile: ndexr_1.30.0.tar.gz PackageFileSize: 946.6 KiB