Package: ndexr Version: 1.30.0 Command: rm -rf ndexr.buildbin-libdir && mkdir ndexr.buildbin-libdir && /Users/biocbuild/BBS/utils/build-universal.sh ndexr_1.30.0.tar.gz /Library/Frameworks/R.framework/Resources/bin/R ndexr.buildbin-libdir StartedAt: 2025-10-15 19:35:42 -0400 (Wed, 15 Oct 2025) EndedAt: 2025-10-15 19:35:47 -0400 (Wed, 15 Oct 2025) EllapsedTime: 4.4 seconds RetCode: 0 Status: OK PackageFile: ndexr_1.30.0.tgz PackageFileSize: 617.6 KiB