Package: ncdfFlow Version: 2.54.0 Command: /home/biocbuild/bbs-3.21-bioc/R/bin/R CMD INSTALL ncdfFlow StartedAt: 2025-10-15 15:13:01 -0400 (Wed, 15 Oct 2025) EndedAt: 2025-10-15 15:13:15 -0400 (Wed, 15 Oct 2025) EllapsedTime: 13.3 seconds RetCode: 0 Status: OK