Package: ncdfFlow Version: 2.54.0 Command: /home/biocbuild/R/R/bin/R CMD INSTALL ncdfFlow StartedAt: 2025-10-13 20:25:47 -0000 (Mon, 13 Oct 2025) EndedAt: 2025-10-13 20:26:07 -0000 (Mon, 13 Oct 2025) EllapsedTime: 19.8 seconds RetCode: 0 Status: OK