Package: ncdfFlow Version: 2.54.0 Command: /Library/Frameworks/R.framework/Resources/bin/R CMD build --keep-empty-dirs --no-resave-data ncdfFlow StartedAt: 2025-10-14 05:33:28 -0400 (Tue, 14 Oct 2025) EndedAt: 2025-10-14 05:34:04 -0400 (Tue, 14 Oct 2025) EllapsedTime: 36.1 seconds RetCode: 0 Status: OK PackageFile: ncdfFlow_2.54.0.tar.gz PackageFileSize: 198.8 KiB