Package: ncRNAtools Version: 1.18.0 Command: /home/biocbuild/bbs-3.21-bioc/R/bin/R CMD INSTALL ncRNAtools StartedAt: 2025-10-15 15:22:19 -0400 (Wed, 15 Oct 2025) EndedAt: 2025-10-15 15:22:31 -0400 (Wed, 15 Oct 2025) EllapsedTime: 12.0 seconds RetCode: 0 Status: OK