Package: ncRNAtools Version: 1.18.0 Command: /home/biocbuild/R/R/bin/R CMD INSTALL ncRNAtools StartedAt: 2025-10-13 20:29:47 -0000 (Mon, 13 Oct 2025) EndedAt: 2025-10-13 20:30:04 -0000 (Mon, 13 Oct 2025) EllapsedTime: 17.8 seconds RetCode: 0 Status: OK