Package: ncRNAtools Version: 1.18.0 Command: /home/biocbuild/R/R/bin/R CMD build --keep-empty-dirs --no-resave-data ncRNAtools StartedAt: 2025-10-14 03:00:36 -0000 (Tue, 14 Oct 2025) EndedAt: 2025-10-14 03:01:35 -0000 (Tue, 14 Oct 2025) EllapsedTime: 59.0 seconds RetCode: 0 Status: OK PackageFile: ncRNAtools_1.18.0.tar.gz PackageFileSize: 336.9 KiB