Package: mzR Version: 2.42.0 Command: /home/biocbuild/bbs-3.21-bioc/R/bin/R CMD build --keep-empty-dirs --no-resave-data mzR StartedAt: 2025-10-15 18:48:22 -0400 (Wed, 15 Oct 2025) EndedAt: 2025-10-15 18:57:45 -0400 (Wed, 15 Oct 2025) EllapsedTime: 563.6 seconds RetCode: 0 Status: OK PackageFile: mzR_2.42.0.tar.gz PackageFileSize: 7.364 MiB