Package: mzR Version: 2.42.0 Command: /home/biocbuild/R/R/bin/R CMD INSTALL mzR StartedAt: 2025-10-13 20:25:28 -0000 (Mon, 13 Oct 2025) EndedAt: 2025-10-13 20:38:10 -0000 (Mon, 13 Oct 2025) EllapsedTime: 761.5 seconds RetCode: 0 Status: OK