Package: mzR Version: 2.42.0 Command: /Library/Frameworks/R.framework/Resources/bin/R CMD build --keep-empty-dirs --no-resave-data mzR StartedAt: 2025-10-14 05:29:48 -0400 (Tue, 14 Oct 2025) EndedAt: 2025-10-14 05:38:26 -0400 (Tue, 14 Oct 2025) EllapsedTime: 517.4 seconds RetCode: 0 Status: OK PackageFile: mzR_2.42.0.tar.gz PackageFileSize: 7.343 MiB