Package: myvariant Version: 1.38.0 Command: /Library/Frameworks/R.framework/Resources/bin/R CMD build --keep-empty-dirs --no-resave-data myvariant StartedAt: 2025-04-21 17:42:48 -0400 (Mon, 21 Apr 2025) EndedAt: 2025-04-21 17:44:03 -0400 (Mon, 21 Apr 2025) EllapsedTime: 75.5 seconds RetCode: 0 Status: OK PackageFile: myvariant_1.38.0.tar.gz PackageFileSize: 158 KiB