Package: myvariant Version: 1.38.0 Command: /home/biocbuild/R/R/bin/R CMD INSTALL myvariant StartedAt: 2025-10-13 20:56:25 -0000 (Mon, 13 Oct 2025) EndedAt: 2025-10-13 20:57:25 -0000 (Mon, 13 Oct 2025) EllapsedTime: 60.2 seconds RetCode: 0 Status: OK