Package: multtest Version: 2.64.0 Command: /home/biocbuild/R/R/bin/R CMD INSTALL multtest StartedAt: 2025-10-13 20:23:36 -0000 (Mon, 13 Oct 2025) EndedAt: 2025-10-13 20:23:53 -0000 (Mon, 13 Oct 2025) EllapsedTime: 17.2 seconds RetCode: 0 Status: OK