Package: multicrispr Version: 1.18.0 Command: /home/biocbuild/bbs-3.21-bioc/R/bin/R CMD build --keep-empty-dirs --no-resave-data multicrispr StartedAt: 2025-10-15 18:46:15 -0400 (Wed, 15 Oct 2025) EndedAt: 2025-10-15 18:47:38 -0400 (Wed, 15 Oct 2025) EllapsedTime: 82.1 seconds RetCode: 0 Status: OK PackageFile: multicrispr_1.18.0.tar.gz PackageFileSize: 2.575 MiB