Package: multicrispr Version: 1.18.0 Command: /home/biocbuild/R/R/bin/R CMD INSTALL multicrispr StartedAt: 2025-10-13 20:59:25 -0000 (Mon, 13 Oct 2025) EndedAt: 2025-10-13 21:00:17 -0000 (Mon, 13 Oct 2025) EllapsedTime: 52.1 seconds RetCode: 0 Status: OK