Package: multicrispr Version: 1.18.0 Command: /Library/Frameworks/R.framework/Resources/bin/R CMD INSTALL multicrispr StartedAt: 2025-10-13 17:27:27 -0400 (Mon, 13 Oct 2025) EndedAt: 2025-10-13 17:28:10 -0400 (Mon, 13 Oct 2025) EllapsedTime: 43.6 seconds RetCode: 0 Status: OK