Package: multiWGCNA Version: 1.6.0 Command: /Library/Frameworks/R.framework/Resources/bin/R CMD INSTALL multiWGCNA StartedAt: 2025-10-13 17:45:59 -0400 (Mon, 13 Oct 2025) EndedAt: 2025-10-13 17:46:39 -0400 (Mon, 13 Oct 2025) EllapsedTime: 39.6 seconds RetCode: 0 Status: OK