Package: multiWGCNA Version: 1.6.0 Command: /Library/Frameworks/R.framework/Resources/bin/R CMD build --keep-empty-dirs --no-resave-data multiWGCNA StartedAt: 2025-10-14 05:20:51 -0400 (Tue, 14 Oct 2025) EndedAt: 2025-10-14 05:26:26 -0400 (Tue, 14 Oct 2025) EllapsedTime: 335.1 seconds RetCode: 0 Status: OK PackageFile: multiWGCNA_1.6.0.tar.gz PackageFileSize: 3.593 MiB