Package: multiMiR Version: 1.30.0 Command: /home/biocbuild/R/R/bin/R CMD INSTALL multiMiR StartedAt: 2025-10-13 20:39:37 -0000 (Mon, 13 Oct 2025) EndedAt: 2025-10-13 20:40:10 -0000 (Mon, 13 Oct 2025) EllapsedTime: 33.3 seconds RetCode: 0 Status: OK