Package: multiMiR Version: 1.30.0 Command: /home/biocbuild/R/R/bin/R CMD build --keep-empty-dirs --no-resave-data multiMiR StartedAt: 2025-10-14 02:56:12 -0000 (Tue, 14 Oct 2025) EndedAt: 2025-10-14 02:58:09 -0000 (Tue, 14 Oct 2025) EllapsedTime: 117.1 seconds RetCode: 0 Status: OK PackageFile: multiMiR_1.30.0.tar.gz PackageFileSize: 400.6 KiB