Package: multiMiR Version: 1.30.0 Command: /Library/Frameworks/R.framework/Resources/bin/R CMD build --keep-empty-dirs --no-resave-data multiMiR StartedAt: 2025-10-14 05:19:15 -0400 (Tue, 14 Oct 2025) EndedAt: 2025-10-14 05:20:47 -0400 (Tue, 14 Oct 2025) EllapsedTime: 92.0 seconds RetCode: 0 Status: OK PackageFile: multiMiR_1.30.0.tar.gz PackageFileSize: 332 KiB