Package: multiMiR Version: 1.30.0 Command: rm -rf multiMiR.buildbin-libdir && mkdir multiMiR.buildbin-libdir && /Users/biocbuild/BBS/utils/build-universal.sh multiMiR_1.30.0.tar.gz /Library/Frameworks/R.framework/Resources/bin/R multiMiR.buildbin-libdir StartedAt: 2025-10-15 19:32:21 -0400 (Wed, 15 Oct 2025) EndedAt: 2025-10-15 19:32:42 -0400 (Wed, 15 Oct 2025) EllapsedTime: 21.2 seconds RetCode: 0 Status: OK PackageFile: multiMiR_1.30.0.tgz PackageFileSize: 632.5 KiB