Package: multiHiCcompare Version: 1.26.0 Command: rm -rf multiHiCcompare.buildbin-libdir && mkdir multiHiCcompare.buildbin-libdir && /Users/biocbuild/BBS/utils/build-universal.sh multiHiCcompare_1.26.0.tar.gz /Library/Frameworks/R.framework/Resources/bin/R multiHiCcompare.buildbin-libdir StartedAt: 2025-10-14 14:13:10 -0400 (Tue, 14 Oct 2025) EndedAt: 2025-10-14 14:14:50 -0400 (Tue, 14 Oct 2025) EllapsedTime: 100.7 seconds RetCode: 0 Status: OK PackageFile: multiHiCcompare_1.26.0.tgz PackageFileSize: 5.337 MiB